BEGIN:VCALENDAR
VERSION:2.0
PRODID:-//Hürther Rudergesellschaft e.V. - ECPv6.15.11//NONSGML v1.0//EN
CALSCALE:GREGORIAN
METHOD:PUBLISH
X-ORIGINAL-URL:https://www.huerther-rudergesellschaft.de
X-WR-CALDESC:Veranstaltungen für Hürther Rudergesellschaft e.V.
REFRESH-INTERVAL;VALUE=DURATION:PT1H
X-Robots-Tag:noindex
X-PUBLISHED-TTL:PT1H
BEGIN:VTIMEZONE
TZID:Europe/Berlin
BEGIN:DAYLIGHT
TZOFFSETFROM:+0100
TZOFFSETTO:+0200
TZNAME:CEST
DTSTART:20240331T010000
END:DAYLIGHT
BEGIN:STANDARD
TZOFFSETFROM:+0200
TZOFFSETTO:+0100
TZNAME:CET
DTSTART:20241027T010000
END:STANDARD
BEGIN:DAYLIGHT
TZOFFSETFROM:+0100
TZOFFSETTO:+0200
TZNAME:CEST
DTSTART:20250330T010000
END:DAYLIGHT
BEGIN:STANDARD
TZOFFSETFROM:+0200
TZOFFSETTO:+0100
TZNAME:CET
DTSTART:20251026T010000
END:STANDARD
BEGIN:DAYLIGHT
TZOFFSETFROM:+0100
TZOFFSETTO:+0200
TZNAME:CEST
DTSTART:20260329T010000
END:DAYLIGHT
BEGIN:STANDARD
TZOFFSETFROM:+0200
TZOFFSETTO:+0100
TZNAME:CET
DTSTART:20261025T010000
END:STANDARD
BEGIN:DAYLIGHT
TZOFFSETFROM:+0100
TZOFFSETTO:+0200
TZNAME:CEST
DTSTART:20270328T010000
END:DAYLIGHT
BEGIN:STANDARD
TZOFFSETFROM:+0200
TZOFFSETTO:+0100
TZNAME:CET
DTSTART:20271031T010000
END:STANDARD
END:VTIMEZONE
BEGIN:VEVENT
DTSTART;TZID=Europe/Berlin:20260127T171500
DTEND;TZID=Europe/Berlin:20260127T190000
DTSTAMP:20260425T132621
CREATED:20251111T192307Z
LAST-MODIFIED:20251111T192307Z
UID:1504-1769534100-1769540400@www.huerther-rudergesellschaft.de
SUMMARY:Kinder-Wintertraining (Halle)
DESCRIPTION:
URL:https://www.huerther-rudergesellschaft.de/event/kinder-wintertraining-halle-6/
LOCATION:große Sporthalle/Ergoraum
END:VEVENT
BEGIN:VEVENT
DTSTART;TZID=Europe/Berlin:20260120T171500
DTEND;TZID=Europe/Berlin:20260120T190000
DTSTAMP:20260425T132621
CREATED:20251111T191844Z
LAST-MODIFIED:20251111T191844Z
UID:1502-1768929300-1768935600@www.huerther-rudergesellschaft.de
SUMMARY:Kinder-Wintertraining (Halle)
DESCRIPTION:
URL:https://www.huerther-rudergesellschaft.de/event/kinder-wintertraining-halle-5/
LOCATION:große Sporthalle/Ergoraum
END:VEVENT
BEGIN:VEVENT
DTSTART;TZID=Europe/Berlin:20260113T171500
DTEND;TZID=Europe/Berlin:20260113T190000
DTSTAMP:20260425T132621
CREATED:20251111T191644Z
LAST-MODIFIED:20251111T191644Z
UID:1500-1768324500-1768330800@www.huerther-rudergesellschaft.de
SUMMARY:Kinder-Wintertraining (Halle)
DESCRIPTION:
URL:https://www.huerther-rudergesellschaft.de/event/kinder-wintertraining-halle-4/
LOCATION:große Sporthalle/Ergoraum
END:VEVENT
BEGIN:VEVENT
DTSTART;TZID=Europe/Berlin:20251216T171500
DTEND;TZID=Europe/Berlin:20251216T190000
DTSTAMP:20260425T132621
CREATED:20251111T191445Z
LAST-MODIFIED:20251111T191445Z
UID:1498-1765905300-1765911600@www.huerther-rudergesellschaft.de
SUMMARY:Kinder-Wintertraining (Halle)
DESCRIPTION:
URL:https://www.huerther-rudergesellschaft.de/event/kinder-wintertraining-halle-3/
LOCATION:große Sporthalle/Ergoraum
END:VEVENT
BEGIN:VEVENT
DTSTART;TZID=Europe/Berlin:20251210T180000
DTEND;TZID=Europe/Berlin:20251210T220000
DTSTAMP:20260425T132621
CREATED:20250114T190954Z
LAST-MODIFIED:20250114T190954Z
UID:1211-1765389600-1765404000@www.huerther-rudergesellschaft.de
SUMMARY:HRG-Frauenweihnachtsfeier
DESCRIPTION:
URL:https://www.huerther-rudergesellschaft.de/event/hrg-frauenweihnachtsfeier/
END:VEVENT
BEGIN:VEVENT
DTSTART;TZID=Europe/Berlin:20251209T171500
DTEND;TZID=Europe/Berlin:20251209T190000
DTSTAMP:20260425T132621
CREATED:20251111T191300Z
LAST-MODIFIED:20251111T191300Z
UID:1495-1765300500-1765306800@www.huerther-rudergesellschaft.de
SUMMARY:Kinder-Wintertraining (Halle)
DESCRIPTION:
URL:https://www.huerther-rudergesellschaft.de/event/kinder-wintertraining-halle-2/
LOCATION:große Sporthalle/Ergoraum
END:VEVENT
BEGIN:VEVENT
DTSTART;TZID=Europe/Berlin:20251202T171500
DTEND;TZID=Europe/Berlin:20251202T190000
DTSTAMP:20260425T132621
CREATED:20251111T190959Z
LAST-MODIFIED:20251111T191105Z
UID:1491-1764695700-1764702000@www.huerther-rudergesellschaft.de
SUMMARY:Kinder-Wintertraining (Halle)
DESCRIPTION:
URL:https://www.huerther-rudergesellschaft.de/event/kinder-wintertraining/
LOCATION:große Sporthalle/Ergoraum
END:VEVENT
BEGIN:VEVENT
DTSTART;TZID=Europe/Berlin:20251125T171500
DTEND;TZID=Europe/Berlin:20251125T190000
DTSTAMP:20260425T132621
CREATED:20251111T190754Z
LAST-MODIFIED:20251111T191147Z
UID:1489-1764090900-1764097200@www.huerther-rudergesellschaft.de
SUMMARY:Kinder-Wintertraining (Halle)
DESCRIPTION:
URL:https://www.huerther-rudergesellschaft.de/event/kinder-wintertraining-halle/
LOCATION:große Sporthalle/Ergoraum
END:VEVENT
BEGIN:VEVENT
DTSTART;TZID=Europe/Berlin:20251118T170000
DTEND;TZID=Europe/Berlin:20251118T200000
DTSTAMP:20260425T132621
CREATED:20251111T190448Z
LAST-MODIFIED:20251111T190448Z
UID:1487-1763485200-1763496000@www.huerther-rudergesellschaft.de
SUMMARY:Kinderrudern-Weihnachtsfeier
DESCRIPTION:
URL:https://www.huerther-rudergesellschaft.de/event/kinderrudern-weihnachtsfeier/
LOCATION:Clubraum
END:VEVENT
BEGIN:VEVENT
DTSTART;TZID=Europe/Berlin:20251115T100000
DTEND;TZID=Europe/Berlin:20251115T130000
DTSTAMP:20260425T132621
CREATED:20250114T190819Z
LAST-MODIFIED:20250114T190819Z
UID:1209-1763200800-1763211600@www.huerther-rudergesellschaft.de
SUMMARY:HRG-Arbeitstag
DESCRIPTION:
URL:https://www.huerther-rudergesellschaft.de/event/hrg-arbeitstag-2/
END:VEVENT
BEGIN:VEVENT
DTSTART;TZID=Europe/Berlin:20251025T140000
DTEND;TZID=Europe/Berlin:20251025T160000
DTSTAMP:20260425T132621
CREATED:20250114T190655Z
LAST-MODIFIED:20250114T190655Z
UID:1207-1761400800-1761408000@www.huerther-rudergesellschaft.de
SUMMARY:Abrudern
DESCRIPTION:
URL:https://www.huerther-rudergesellschaft.de/event/abrudern-2/
END:VEVENT
BEGIN:VEVENT
DTSTART;TZID=Europe/Berlin:20250419T100000
DTEND;TZID=Europe/Berlin:20250419T120000
DTSTAMP:20260425T132621
CREATED:20250330T134205Z
LAST-MODIFIED:20250413T151427Z
UID:1286-1745056800-1745064000@www.huerther-rudergesellschaft.de
SUMMARY:***ABGESAGT***""OSTER+Frühstücksbrunch
DESCRIPTION:ABGESAGT mangels Teilnehmer!!!
URL:https://www.huerther-rudergesellschaft.de/event/osterfruehstuecksbrunch/
LOCATION:Clubraum
END:VEVENT
BEGIN:VEVENT
DTSTART;TZID=Europe/Berlin:20250413T080000
DTEND;TZID=Europe/Berlin:20250413T163000
DTSTAMP:20260425T132621
CREATED:20250313T042030Z
LAST-MODIFIED:20250313T193503Z
UID:1280-1744531200-1744561800@www.huerther-rudergesellschaft.de
SUMMARY:NWRV Trainerfortbildung "Technik"
DESCRIPTION:Veranstalter: NWRV Frank Baumgard
URL:https://www.huerther-rudergesellschaft.de/event/nwrv-trainerfortbildung-technik-2/
LOCATION:Clubraum\, Bootshalle\, OMS
END:VEVENT
BEGIN:VEVENT
DTSTART;TZID=Europe/Berlin:20250412T093000
DTEND;TZID=Europe/Berlin:20250412T193000
DTSTAMP:20260425T132621
CREATED:20250313T041836Z
LAST-MODIFIED:20250313T193553Z
UID:1278-1744450200-1744486200@www.huerther-rudergesellschaft.de
SUMMARY:NWRV Trainerfortbildung "Technik"
DESCRIPTION:Veranstalter: NWRV Frank Baumgard
URL:https://www.huerther-rudergesellschaft.de/event/nwrv-trainerfortbildung-technik/
LOCATION:Clubraum\, Bootshalle\, OMS
END:VEVENT
BEGIN:VEVENT
DTSTART;TZID=Europe/Berlin:20250406T100000
DTEND;TZID=Europe/Berlin:20250406T120000
DTSTAMP:20260425T132621
CREATED:20250114T190440Z
LAST-MODIFIED:20250114T190440Z
UID:1205-1743933600-1743940800@www.huerther-rudergesellschaft.de
SUMMARY:Anrudern
DESCRIPTION:
URL:https://www.huerther-rudergesellschaft.de/event/anrudern/
END:VEVENT
BEGIN:VEVENT
DTSTART;TZID=Europe/Berlin:20250331T184500
DTEND;TZID=Europe/Berlin:20250331T200000
DTSTAMP:20260425T132621
CREATED:20241027T123251Z
LAST-MODIFIED:20241215T122738Z
UID:1097-1743446700-1743451200@www.huerther-rudergesellschaft.de
SUMMARY:Yoga
DESCRIPTION:Yoga mit Svenja
URL:https://www.huerther-rudergesellschaft.de/event/yoga-9/
END:VEVENT
BEGIN:VEVENT
DTSTART;TZID=Europe/Berlin:20250325T190000
DTEND;TZID=Europe/Berlin:20250325T201500
DTSTAMP:20260425T132621
CREATED:20250114T193045Z
LAST-MODIFIED:20250114T193045Z
UID:1242-1742929200-1742933700@www.huerther-rudergesellschaft.de
SUMMARY:Team-Rowing
DESCRIPTION:Trainer: Miguel
URL:https://www.huerther-rudergesellschaft.de/event/team-rowing-28/
LOCATION:große Sporthalle
END:VEVENT
BEGIN:VEVENT
DTSTART;TZID=Europe/Berlin:20250324T184500
DTEND;TZID=Europe/Berlin:20250324T200000
DTSTAMP:20260425T132621
CREATED:20241027T123148Z
LAST-MODIFIED:20241215T122712Z
UID:1095-1742841900-1742846400@www.huerther-rudergesellschaft.de
SUMMARY:Zirkeltraining
DESCRIPTION:Zirkeltraining mit Sabrina
URL:https://www.huerther-rudergesellschaft.de/event/zirkeltraining-11/
LOCATION:große Sporthalle
END:VEVENT
BEGIN:VEVENT
DTSTART;TZID=Europe/Berlin:20250322T100000
DTEND;TZID=Europe/Berlin:20250322T130000
DTSTAMP:20260425T132621
CREATED:20250114T190238Z
LAST-MODIFIED:20250114T190238Z
UID:1203-1742637600-1742648400@www.huerther-rudergesellschaft.de
SUMMARY:HRG-Arbeitstag
DESCRIPTION:
URL:https://www.huerther-rudergesellschaft.de/event/hrg-arbeitstag/
END:VEVENT
BEGIN:VEVENT
DTSTART;TZID=Europe/Berlin:20250320T190000
DTEND;TZID=Europe/Berlin:20250320T210000
DTSTAMP:20260425T132621
CREATED:20250203T200425Z
LAST-MODIFIED:20250203T200425Z
UID:1259-1742497200-1742504400@www.huerther-rudergesellschaft.de
SUMMARY:Jahreshauptversammlung
DESCRIPTION:
URL:https://www.huerther-rudergesellschaft.de/event/jahreshauptversammlung/
END:VEVENT
BEGIN:VEVENT
DTSTART;TZID=Europe/Berlin:20250317T184500
DTEND;TZID=Europe/Berlin:20250317T200000
DTSTAMP:20260425T132621
CREATED:20241027T123056Z
LAST-MODIFIED:20241215T122651Z
UID:1093-1742237100-1742241600@www.huerther-rudergesellschaft.de
SUMMARY:Zirkeltraining
DESCRIPTION:Zirkeltraining mit Sabrina
URL:https://www.huerther-rudergesellschaft.de/event/zirkeltraining-10/
LOCATION:große Sporthalle
END:VEVENT
BEGIN:VEVENT
DTSTART;TZID=Europe/Berlin:20250311T190000
DTEND;TZID=Europe/Berlin:20250311T201500
DTSTAMP:20260425T132621
CREATED:20250114T192827Z
LAST-MODIFIED:20250114T192827Z
UID:1238-1741719600-1741724100@www.huerther-rudergesellschaft.de
SUMMARY:Team-Rowing
DESCRIPTION:Trainer: Gerd
URL:https://www.huerther-rudergesellschaft.de/event/team-rowing-26/
LOCATION:große Sporthalle
END:VEVENT
BEGIN:VEVENT
DTSTART;TZID=Europe/Berlin:20250311T173000
DTEND;TZID=Europe/Berlin:20250311T190000
DTSTAMP:20260425T132621
CREATED:20250114T193523Z
LAST-MODIFIED:20250114T193523Z
UID:1245-1741714200-1741719600@www.huerther-rudergesellschaft.de
SUMMARY:Kindertraining
DESCRIPTION:
URL:https://www.huerther-rudergesellschaft.de/event/kindertraining-12/
LOCATION:große Sporthalle
END:VEVENT
BEGIN:VEVENT
DTSTART;TZID=Europe/Berlin:20250310T190000
DTEND;TZID=Europe/Berlin:20250310T220000
DTSTAMP:20260425T132621
CREATED:20250203T200042Z
LAST-MODIFIED:20250203T200042Z
UID:1257-1741633200-1741644000@www.huerther-rudergesellschaft.de
SUMMARY:Fischessen
DESCRIPTION:
URL:https://www.huerther-rudergesellschaft.de/event/fischessen/
END:VEVENT
BEGIN:VEVENT
DTSTART;TZID=Europe/Berlin:20250310T184500
DTEND;TZID=Europe/Berlin:20250310T200000
DTSTAMP:20260425T132621
CREATED:20241027T123000Z
LAST-MODIFIED:20241215T122631Z
UID:1091-1741632300-1741636800@www.huerther-rudergesellschaft.de
SUMMARY:Zirkeltraining
DESCRIPTION:Zirkeltraining mit Sabrina
URL:https://www.huerther-rudergesellschaft.de/event/zirkeltraining-9/
LOCATION:große Sporthalle
END:VEVENT
BEGIN:VEVENT
DTSTART;TZID=Europe/Berlin:20250306T190000
DTEND;TZID=Europe/Berlin:20250306T201500
DTSTAMP:20260425T132621
CREATED:20250114T192718Z
LAST-MODIFIED:20250114T192718Z
UID:1236-1741287600-1741292100@www.huerther-rudergesellschaft.de
SUMMARY:Team-Rowing
DESCRIPTION:Trainer: Stefan
URL:https://www.huerther-rudergesellschaft.de/event/team-rowing-25/
LOCATION:große Sporthalle
END:VEVENT
BEGIN:VEVENT
DTSTART;TZID=Europe/Berlin:20250225T173000
DTEND;TZID=Europe/Berlin:20250225T190000
DTSTAMP:20260425T132621
CREATED:20250114T191652Z
LAST-MODIFIED:20250114T191652Z
UID:1224-1740504600-1740510000@www.huerther-rudergesellschaft.de
SUMMARY:Kindertraining
DESCRIPTION:
URL:https://www.huerther-rudergesellschaft.de/event/kindertraining-11/
LOCATION:große Sporthalle
END:VEVENT
BEGIN:VEVENT
DTSTART;TZID=Europe/Berlin:20250224T184500
DTEND;TZID=Europe/Berlin:20250224T200000
DTSTAMP:20260425T132621
CREATED:20241027T122851Z
LAST-MODIFIED:20241215T122600Z
UID:1089-1740422700-1740427200@www.huerther-rudergesellschaft.de
SUMMARY:YOGA
DESCRIPTION:Yoga mit Svenja
URL:https://www.huerther-rudergesellschaft.de/event/yoga-8/
LOCATION:große Sporthalle
END:VEVENT
BEGIN:VEVENT
DTSTART;TZID=Europe/Berlin:20250218T190000
DTEND;TZID=Europe/Berlin:20250218T201500
DTSTAMP:20260425T132621
CREATED:20250114T192255Z
LAST-MODIFIED:20250209T143447Z
UID:1231-1739905200-1739909700@www.huerther-rudergesellschaft.de
SUMMARY:Team-Rowing
DESCRIPTION:Trainer: Rolf \nTeam-Rowing „KARNEVAL“
URL:https://www.huerther-rudergesellschaft.de/event/team-rowing-24/
LOCATION:große Sporthalle
END:VEVENT
BEGIN:VEVENT
DTSTART;TZID=Europe/Berlin:20250218T173000
DTEND;TZID=Europe/Berlin:20250218T190000
DTSTAMP:20260425T132621
CREATED:20250114T191533Z
LAST-MODIFIED:20250114T191533Z
UID:1221-1739899800-1739905200@www.huerther-rudergesellschaft.de
SUMMARY:Kindertraining
DESCRIPTION:
URL:https://www.huerther-rudergesellschaft.de/event/kindertraining-10/
LOCATION:große Sporthalle
END:VEVENT
END:VCALENDAR